BEGIN:VCALENDAR
VERSION:2.0
PRODID:-//Pediatric Infectious Diseases Society - ECPv6.15.17.1//NONSGML v1.0//EN
CALSCALE:GREGORIAN
METHOD:PUBLISH
X-WR-CALNAME:Pediatric Infectious Diseases Society
X-ORIGINAL-URL:https://pids.org
X-WR-CALDESC:Events for Pediatric Infectious Diseases Society
REFRESH-INTERVAL;VALUE=DURATION:PT1H
X-Robots-Tag:noindex
X-PUBLISHED-TTL:PT1H
BEGIN:VTIMEZONE
TZID:America/New_York
BEGIN:DAYLIGHT
TZOFFSETFROM:-0500
TZOFFSETTO:-0400
TZNAME:EDT
DTSTART:20250309T070000
END:DAYLIGHT
BEGIN:STANDARD
TZOFFSETFROM:-0400
TZOFFSETTO:-0500
TZNAME:EST
DTSTART:20251102T060000
END:STANDARD
BEGIN:DAYLIGHT
TZOFFSETFROM:-0500
TZOFFSETTO:-0400
TZNAME:EDT
DTSTART:20260308T070000
END:DAYLIGHT
BEGIN:STANDARD
TZOFFSETFROM:-0400
TZOFFSETTO:-0500
TZNAME:EST
DTSTART:20261101T060000
END:STANDARD
BEGIN:DAYLIGHT
TZOFFSETFROM:-0500
TZOFFSETTO:-0400
TZNAME:EDT
DTSTART:20270314T070000
END:DAYLIGHT
BEGIN:STANDARD
TZOFFSETFROM:-0400
TZOFFSETTO:-0500
TZNAME:EST
DTSTART:20271107T060000
END:STANDARD
END:VTIMEZONE
BEGIN:VEVENT
DTSTART;TZID=America/New_York:20260501T130000
DTEND;TZID=America/New_York:20260501T140000
DTSTAMP:20260422T142923
CREATED:20260414T201105Z
LAST-MODIFIED:20260414T201105Z
UID:20451-1777640400-1777644000@pids.org
SUMMARY:Global Health Committee Meeting
DESCRIPTION:
URL:https://pids.org/calendar/global-health-committee-meeting-17/
END:VEVENT
BEGIN:VEVENT
DTSTART;TZID=America/New_York:20260505T100000
DTEND;TZID=America/New_York:20260505T110000
DTSTAMP:20260422T142923
CREATED:20260414T200643Z
LAST-MODIFIED:20260414T200643Z
UID:20446-1777975200-1777978800@pids.org
SUMMARY:JPIDS Associate Editors Weekly Call
DESCRIPTION:
URL:https://pids.org/calendar/jpids-associate-editors-weekly-call-168/
END:VEVENT
BEGIN:VEVENT
DTSTART;TZID=America/New_York:20260505T130000
DTEND;TZID=America/New_York:20260505T140000
DTSTAMP:20260422T142923
CREATED:20260421T205345Z
LAST-MODIFIED:20260421T205345Z
UID:20501-1777986000-1777989600@pids.org
SUMMARY:HIV/STI Series
DESCRIPTION:HIV Exposed Uninfected Infants \nPresenter: Kathleen Powis\, MD – Harvard Medical School
URL:https://pids.org/calendar/hiv-sti-series-7/
END:VEVENT
BEGIN:VEVENT
DTSTART;TZID=America/New_York:20260505T160000
DTEND;TZID=America/New_York:20260505T170000
DTSTAMP:20260422T142923
CREATED:20260317T135137Z
LAST-MODIFIED:20260317T135137Z
UID:18732-1777996800-1778000400@pids.org
SUMMARY:Publications Committee Meeting
DESCRIPTION:
URL:https://pids.org/calendar/publications-committee-meeting-6/
END:VEVENT
BEGIN:VEVENT
DTSTART;TZID=America/New_York:20260512T100000
DTEND;TZID=America/New_York:20260512T110000
DTSTAMP:20260422T142923
CREATED:20260414T200713Z
LAST-MODIFIED:20260414T200713Z
UID:20447-1778580000-1778583600@pids.org
SUMMARY:JPIDS Associate Editors Weekly Call
DESCRIPTION:
URL:https://pids.org/calendar/jpids-associate-editors-weekly-call-169/
END:VEVENT
BEGIN:VEVENT
DTSTART;VALUE=DATE:20260515
DTEND;VALUE=DATE:20260516
DTSTAMP:20260422T142923
CREATED:20260421T131013Z
LAST-MODIFIED:20260421T131013Z
UID:20499-1778803200-1778889599@pids.org
SUMMARY:meetID Deadline for IDWeek
DESCRIPTION:meetID – mentored\, engaging\, educational and trainee-focused Pediatric ID Program
URL:https://pids.org/calendar/meetid-deadline-for-idweek/
END:VEVENT
BEGIN:VEVENT
DTSTART;VALUE=DATE:20260515
DTEND;VALUE=DATE:20260516
DTSTAMP:20260422T142923
CREATED:20260421T131214Z
LAST-MODIFIED:20260421T131214Z
UID:20500-1778803200-1778889599@pids.org
SUMMARY:ASP Trainee Award Deadline
DESCRIPTION:https://pidsfoundation.org/wp-content/uploads/2026/04/Pediatric-Infectious-Diseases-Society-and-Pediatric-Committee-on-Antimicrobial-Stewardship-Pediatric-Antimicrobial-Stewardship-Trainee-Award.pdf
URL:https://pids.org/calendar/asp-trainee-award-deadline/
END:VEVENT
BEGIN:VEVENT
DTSTART;TZID=America/New_York:20260519T100000
DTEND;TZID=America/New_York:20260519T110000
DTSTAMP:20260422T142923
CREATED:20260414T200746Z
LAST-MODIFIED:20260414T200746Z
UID:20448-1779184800-1779188400@pids.org
SUMMARY:JPIDS Associate Editors Weekly Call
DESCRIPTION:
URL:https://pids.org/calendar/jpids-associate-editors-weekly-call-170/
END:VEVENT
BEGIN:VEVENT
DTSTART;TZID=America/New_York:20260526T100000
DTEND;TZID=America/New_York:20260526T110000
DTSTAMP:20260422T142923
CREATED:20260414T201000Z
LAST-MODIFIED:20260414T201000Z
UID:20450-1779789600-1779793200@pids.org
SUMMARY:JPIDS Associate Editors Weekly Call
DESCRIPTION:
URL:https://pids.org/calendar/jpids-associate-editors-weekly-call-171/
END:VEVENT
BEGIN:VEVENT
DTSTART;VALUE=DATE:20260528
DTEND;VALUE=DATE:20260530
DTSTAMP:20260422T142923
CREATED:20260130T190618Z
LAST-MODIFIED:20260309T143116Z
UID:18418-1779926400-1780099199@pids.org
SUMMARY:16th Annual International Pediatric Antimicrobial Stewardship Conference
DESCRIPTION:16th Annual International Pediatric Antimicrobial Stewardship Conference
URL:https://pids.org/calendar/16th-annual-international-pediatric-antimicrobial-stewardship-conference/
END:VEVENT
BEGIN:VEVENT
DTSTART;VALUE=DATE:20260601
DTEND;VALUE=DATE:20260606
DTSTAMP:20260422T142923
CREATED:20260112T180949Z
LAST-MODIFIED:20260112T180949Z
UID:18231-1780272000-1780703999@pids.org
SUMMARY:ESPID 2026
DESCRIPTION:Bologna\, Italy and online \nESPID 2026
URL:https://pids.org/calendar/espid-2026/
END:VEVENT
BEGIN:VEVENT
DTSTART;TZID=America/New_York:20260723T110000
DTEND;TZID=America/New_York:20260723T120000
DTSTAMP:20260422T142923
CREATED:20260205T205207Z
LAST-MODIFIED:20260205T205207Z
UID:18457-1784804400-1784808000@pids.org
SUMMARY:Finance Committee Meeting
DESCRIPTION:
URL:https://pids.org/calendar/finance-committee-meeting-5/
END:VEVENT
BEGIN:VEVENT
DTSTART;TZID=America/New_York:20261022T110000
DTEND;TZID=America/New_York:20261022T120000
DTSTAMP:20260422T142923
CREATED:20260205T205616Z
LAST-MODIFIED:20260205T205616Z
UID:18458-1792666800-1792670400@pids.org
SUMMARY:Finance Committee Meeting
DESCRIPTION:
URL:https://pids.org/calendar/finance-committee-meeting-6/
END:VEVENT
END:VCALENDAR