BEGIN:VCALENDAR
VERSION:2.0
PRODID:-//Pediatric Infectious Diseases Society - ECPv6.15.17.1//NONSGML v1.0//EN
CALSCALE:GREGORIAN
METHOD:PUBLISH
X-WR-CALNAME:Pediatric Infectious Diseases Society
X-ORIGINAL-URL:https://pids.org
X-WR-CALDESC:Events for Pediatric Infectious Diseases Society
REFRESH-INTERVAL;VALUE=DURATION:PT1H
X-Robots-Tag:noindex
X-PUBLISHED-TTL:PT1H
BEGIN:VTIMEZONE
TZID:America/New_York
BEGIN:DAYLIGHT
TZOFFSETFROM:-0500
TZOFFSETTO:-0400
TZNAME:EDT
DTSTART:20240310T070000
END:DAYLIGHT
BEGIN:STANDARD
TZOFFSETFROM:-0400
TZOFFSETTO:-0500
TZNAME:EST
DTSTART:20241103T060000
END:STANDARD
BEGIN:DAYLIGHT
TZOFFSETFROM:-0500
TZOFFSETTO:-0400
TZNAME:EDT
DTSTART:20250309T070000
END:DAYLIGHT
BEGIN:STANDARD
TZOFFSETFROM:-0400
TZOFFSETTO:-0500
TZNAME:EST
DTSTART:20251102T060000
END:STANDARD
BEGIN:DAYLIGHT
TZOFFSETFROM:-0500
TZOFFSETTO:-0400
TZNAME:EDT
DTSTART:20260308T070000
END:DAYLIGHT
BEGIN:STANDARD
TZOFFSETFROM:-0400
TZOFFSETTO:-0500
TZNAME:EST
DTSTART:20261101T060000
END:STANDARD
END:VTIMEZONE
BEGIN:VTIMEZONE
TZID:America/Denver
BEGIN:DAYLIGHT
TZOFFSETFROM:-0700
TZOFFSETTO:-0600
TZNAME:MDT
DTSTART:20240310T090000
END:DAYLIGHT
BEGIN:STANDARD
TZOFFSETFROM:-0600
TZOFFSETTO:-0700
TZNAME:MST
DTSTART:20241103T080000
END:STANDARD
BEGIN:DAYLIGHT
TZOFFSETFROM:-0700
TZOFFSETTO:-0600
TZNAME:MDT
DTSTART:20250309T090000
END:DAYLIGHT
BEGIN:STANDARD
TZOFFSETFROM:-0600
TZOFFSETTO:-0700
TZNAME:MST
DTSTART:20251102T080000
END:STANDARD
BEGIN:DAYLIGHT
TZOFFSETFROM:-0700
TZOFFSETTO:-0600
TZNAME:MDT
DTSTART:20260308T090000
END:DAYLIGHT
BEGIN:STANDARD
TZOFFSETFROM:-0600
TZOFFSETTO:-0700
TZNAME:MST
DTSTART:20261101T080000
END:STANDARD
END:VTIMEZONE
BEGIN:VEVENT
DTSTART;TZID=America/New_York:20251111T100000
DTEND;TZID=America/New_York:20251111T110000
DTSTAMP:20260422T143058
CREATED:20250908T185851Z
LAST-MODIFIED:20250908T185851Z
UID:14473-1762855200-1762858800@pids.org
SUMMARY:JPIDS Associate Editors Weekly Call
DESCRIPTION:
URL:https://pids.org/calendar/jpids-associate-editors-weekly-call-143/
END:VEVENT
BEGIN:VEVENT
DTSTART;TZID=America/New_York:20251110T150000
DTEND;TZID=America/New_York:20251110T160000
DTSTAMP:20260422T143058
CREATED:20251107T204925Z
LAST-MODIFIED:20251107T204925Z
UID:15747-1762786800-1762790400@pids.org
SUMMARY:Workforce Development Committee Meeting
DESCRIPTION:
URL:https://pids.org/calendar/workforce-development-committee-meeting/
END:VEVENT
BEGIN:VEVENT
DTSTART;TZID=America/New_York:20251107T130000
DTEND;TZID=America/New_York:20251107T140000
DTSTAMP:20260422T143058
CREATED:20251029T142014Z
LAST-MODIFIED:20251029T142014Z
UID:15625-1762520400-1762524000@pids.org
SUMMARY:Global Health Committee Meeting
DESCRIPTION:
URL:https://pids.org/calendar/global-health-committee-meeting-11/
END:VEVENT
BEGIN:VEVENT
DTSTART;VALUE=DATE:20251107
DTEND;VALUE=DATE:20251108
DTSTAMP:20260422T143058
CREATED:20251029T143321Z
LAST-MODIFIED:20251029T143321Z
UID:15628-1762473600-1762559999@pids.org
SUMMARY:meetID at St. Jude/PIDS Conference Deadline
DESCRIPTION:Program information and application available at https://pidsfoundation.org/awards/meetid-mentored-engaging-educational-and-trainee-focused-pediatric-id-program/
URL:https://pids.org/calendar/meetid-at-st-jude-pids-conference-deadline/
END:VEVENT
BEGIN:VEVENT
DTSTART;TZID=America/New_York:20251106T130000
DTEND;TZID=America/New_York:20251106T140000
DTSTAMP:20260422T143058
CREATED:20251029T171418Z
LAST-MODIFIED:20251029T171418Z
UID:15634-1762434000-1762437600@pids.org
SUMMARY:SHEA/PIDS IPC Webinar
DESCRIPTION:Title: Tuberculosis \nPresenters: Arthur Chang\, MD – University of Nebraska Medical Center; Nabgha Farhat\, MD\, – Lurie Children’s Hospital of Chicago; Maeve Marsh\, MPH CIC – Lurie Children’s Hospital of Chicago; Gladys Griffin\, MPH CIC – Cincinnati Children’s Hospital \nExpert Panel: Ibukun C. Kalu\, MD – Duke Children’s Hospital; Felicia Scaggs Huang\, MD\, MS – Cincinnati Children’s Hospital; Roshni Mathew\, MD – Lucile Packard Children’s Hospital; Kathleen Ritger\, MD\, MPH – Chicago Department of Health \nModerator: Ayelet Rosenthal\, MD\, MSc – Lurie Children’s Hospital of Chicago
URL:https://pids.org/calendar/shea-pids-ipc-webinar/
END:VEVENT
BEGIN:VEVENT
DTSTART;TZID=America/Denver:20251105T070000
DTEND;TZID=America/Denver:20251105T163000
DTSTAMP:20260422T143058
CREATED:20250821T181851Z
LAST-MODIFIED:20250821T181851Z
UID:12847-1762326000-1762360200@pids.org
SUMMARY:27th Annual Pediatric Infectious Diseases Update
DESCRIPTION:27th Annual Pediatric Infectious Diseases Update
URL:https://pids.org/calendar/27th-annual-pediatric-infectious-diseases-update/
END:VEVENT
BEGIN:VEVENT
DTSTART;TZID=America/New_York:20251104T130000
DTEND;TZID=America/New_York:20251104T140000
DTSTAMP:20260422T143058
CREATED:20251029T171302Z
LAST-MODIFIED:20251029T171302Z
UID:15633-1762261200-1762264800@pids.org
SUMMARY:Transplant ID Journal Club
DESCRIPTION:Title: Letermovir in Pediatric HCT: From Pharmacokinetics to Clinical Care \nPresenters: Dolores Freire Jijon\, MD – Universidad de Guayaquil; Eunkyung Song\, MD – Nationwide Children’s Hospital
URL:https://pids.org/calendar/transplant-id-journal-club-3/
END:VEVENT
BEGIN:VEVENT
DTSTART;TZID=America/New_York:20251104T100000
DTEND;TZID=America/New_York:20251104T110000
DTSTAMP:20260422T143058
CREATED:20250908T185825Z
LAST-MODIFIED:20250908T185825Z
UID:14472-1762250400-1762254000@pids.org
SUMMARY:JPIDS Associate Editors Weekly Call
DESCRIPTION:
URL:https://pids.org/calendar/jpids-associate-editors-weekly-call-142/
END:VEVENT
BEGIN:VEVENT
DTSTART;TZID=America/New_York:20251104T005900
DTEND;TZID=America/New_York:20251104T005900
DTSTAMP:20260422T143058
CREATED:20251029T144118Z
LAST-MODIFIED:20251029T144118Z
UID:15630-1762217940-1762217940@pids.org
SUMMARY:PAS 2026 Abstract Deadline
DESCRIPTION:Deadline is 11:59 p.m. CT on Monday\, November 3 (12:59 a.m. ET on Tuesday\, November 4) \nhttps://www.abstractscorecard.com/cfp/submit/login.asp?EventKey=OCBVEGWT
URL:https://pids.org/calendar/pas-2026-abstract-deadline/
END:VEVENT
BEGIN:VEVENT
DTSTART;VALUE=DATE:20251031
DTEND;VALUE=DATE:20251101
DTSTAMP:20260422T143058
CREATED:20251029T143601Z
LAST-MODIFIED:20251029T143601Z
UID:15629-1761868800-1761955199@pids.org
SUMMARY:IDWeek 2026 Session Submission Deadline
DESCRIPTION:Submission Portal: https://www.abstractscorecard.com/cfp/submit/login.asp?EventKey=LRYXMDGG \nWhen you have the option to select a Subject Category\, please be sure choose “Pediatrics” as either the main or secondary subject category to ensure that it is reviewed by our PIDS program committee members.
URL:https://pids.org/calendar/idweek-2026-session-submission-deadline/
END:VEVENT
BEGIN:VEVENT
DTSTART;TZID=America/New_York:20251028T100000
DTEND;TZID=America/New_York:20251028T110000
DTSTAMP:20260422T143058
CREATED:20250908T185757Z
LAST-MODIFIED:20250908T185757Z
UID:14471-1761645600-1761649200@pids.org
SUMMARY:JPIDS Associate Editors Weekly Call
DESCRIPTION:
URL:https://pids.org/calendar/jpids-associate-editors-weekly-call-141/
END:VEVENT
BEGIN:VEVENT
DTSTART;VALUE=DATE:20251028
DTEND;VALUE=DATE:20251101
DTSTAMP:20260422T143058
CREATED:20251010T195710Z
LAST-MODIFIED:20251010T195710Z
UID:15452-1761609600-1761955199@pids.org
SUMMARY:WSPID 2025
DESCRIPTION:14th World Congress of the World Society for Pediatric Infectious Diseases\nBangkok\, Thailand\nOctober 28-31 \nRegular registration deadline is October 14 \nHome
URL:https://pids.org/calendar/wspid-2025/
END:VEVENT
BEGIN:VEVENT
DTSTART;TZID=America/New_York:20251023T110000
DTEND;TZID=America/New_York:20251023T120000
DTSTAMP:20260422T143058
CREATED:20250611T142713Z
LAST-MODIFIED:20250611T142713Z
UID:12070-1761217200-1761220800@pids.org
SUMMARY:Finance Committee Meeting
DESCRIPTION:
URL:https://pids.org/calendar/finance-committee-meeting-3/
END:VEVENT
BEGIN:VEVENT
DTSTART;TZID=America/New_York:20251020T181500
DTEND;TZID=America/New_York:20251020T211500
DTSTAMP:20260422T143058
CREATED:20250805T132420Z
LAST-MODIFIED:20250929T172438Z
UID:12708-1760984100-1760994900@pids.org
SUMMARY:Better Together - PIDS Foundation Annual Dinner
DESCRIPTION:More info at: https://pids.org/event/pids-foundation-annual-dinner-atlanta-2025/
URL:https://pids.org/calendar/better-together-pids-foundation-annual-dinner/
LOCATION:Georgia Aquarium\, 225 Baker Street\, Northwest\, Atlanta\, GA\, 30313\, United States
END:VEVENT
BEGIN:VEVENT
DTSTART;VALUE=DATE:20251019
DTEND;VALUE=DATE:20251023
DTSTAMP:20260422T143058
CREATED:20250805T132723Z
LAST-MODIFIED:20250805T132723Z
UID:12710-1760832000-1761177599@pids.org
SUMMARY:IDWeek 2025
DESCRIPTION:More info at: https://pids.org/event/idweek-2025/
URL:https://pids.org/calendar/idweek-2025/
LOCATION:Georgia World Congress\, 285 Andrew Young International Blvd NW\, Atlanta\, GA\, 30313\, United States
END:VEVENT
BEGIN:VEVENT
DTSTART;TZID=America/New_York:20251014T100000
DTEND;TZID=America/New_York:20251014T110000
DTSTAMP:20260422T143058
CREATED:20250908T185732Z
LAST-MODIFIED:20250908T185732Z
UID:14470-1760436000-1760439600@pids.org
SUMMARY:JPIDS Associate Editors Weekly Call
DESCRIPTION:
URL:https://pids.org/calendar/jpids-associate-editors-weekly-call-140/
END:VEVENT
BEGIN:VEVENT
DTSTART;TZID=America/New_York:20251007T130000
DTEND;TZID=America/New_York:20251007T140000
DTSTAMP:20260422T143058
CREATED:20250916T205026Z
LAST-MODIFIED:20251006T154611Z
UID:14550-1759842000-1759845600@pids.org
SUMMARY:HIV & STI Series
DESCRIPTION:Opportunistic Infections in Children and Adolescents \nPresenters: \n\nSheila Krishnan\, DO\, MPH – Stanford University\nJonathan Mayhew\, MD – Western Michigan University\nCarina Rodriguez\, MD\, FPIDS – University of South Florida\nRosemary Olivero\, MD\, FPIDS – Michigan State University\nRavi Jhaveri\, MD\, FPIDS – Northwestern University\n\nContact us for registration information
URL:https://pids.org/calendar/hiv-sti-series-3/
END:VEVENT
BEGIN:VEVENT
DTSTART;TZID=America/New_York:20251007T100000
DTEND;TZID=America/New_York:20251007T110000
DTSTAMP:20260422T143058
CREATED:20250908T185705Z
LAST-MODIFIED:20250908T185705Z
UID:14469-1759831200-1759834800@pids.org
SUMMARY:JPIDS Associate Editors Weekly Call
DESCRIPTION:
URL:https://pids.org/calendar/jpids-associate-editors-weekly-call-139/
END:VEVENT
BEGIN:VEVENT
DTSTART;TZID=America/New_York:20251003T130000
DTEND;TZID=America/New_York:20251003T140000
DTSTAMP:20260422T143058
CREATED:20250929T192703Z
LAST-MODIFIED:20250929T192703Z
UID:15372-1759496400-1759500000@pids.org
SUMMARY:Global Health Committee Meeting
DESCRIPTION:
URL:https://pids.org/calendar/global-health-committee-meeting-10/
END:VEVENT
BEGIN:VEVENT
DTSTART;TZID=America/New_York:20250930T100000
DTEND;TZID=America/New_York:20250930T110000
DTSTAMP:20260422T143058
CREATED:20250813T180316Z
LAST-MODIFIED:20250813T180316Z
UID:12766-1759226400-1759230000@pids.org
SUMMARY:JPIDS Associate Editors Weekly Call
DESCRIPTION:
URL:https://pids.org/calendar/jpids-associate-editors-weekly-call-138/
END:VEVENT
BEGIN:VEVENT
DTSTART;TZID=America/New_York:20250923T130000
DTEND;TZID=America/New_York:20250923T140000
DTSTAMP:20260422T143058
CREATED:20250815T174005Z
LAST-MODIFIED:20250916T183805Z
UID:12793-1758632400-1758636000@pids.org
SUMMARY:TID Virtual Clinical Case Conference
DESCRIPTION:Topic: Polyfungal Infection in HR ALL \nPresenter: Andrew Karnaze\, MD\, Children’s Hospital Los Angeles
URL:https://pids.org/calendar/tid-virtual-clinical-case-conference-30/
END:VEVENT
BEGIN:VEVENT
DTSTART;TZID=America/New_York:20250923T100000
DTEND;TZID=America/New_York:20250923T110000
DTSTAMP:20260422T143058
CREATED:20250813T180249Z
LAST-MODIFIED:20250813T180249Z
UID:12765-1758621600-1758625200@pids.org
SUMMARY:JPIDS Associate Editors Weekly Call
DESCRIPTION:
URL:https://pids.org/calendar/jpids-associate-editors-weekly-call-137/
END:VEVENT
BEGIN:VEVENT
DTSTART;VALUE=DATE:20250919
DTEND;VALUE=DATE:20250920
DTSTAMP:20260422T143058
CREATED:20250902T204351Z
LAST-MODIFIED:20250902T204351Z
UID:13689-1758240000-1758326399@pids.org
SUMMARY:IDWeek Registration Rate Increase
DESCRIPTION:IDWeek registration prices for members and nonmembers increase beginning Saturday\, September 20. \nRegister now
URL:https://pids.org/calendar/idweek-registration-rate-increase/
END:VEVENT
BEGIN:VEVENT
DTSTART;VALUE=DATE:20250919
DTEND;VALUE=DATE:20250920
DTSTAMP:20260422T143058
CREATED:20250821T161622Z
LAST-MODIFIED:20250821T161622Z
UID:12845-1758240000-1758326399@pids.org
SUMMARY:JPIDS Associate Editor Application Deadline
DESCRIPTION:The Journal of the Pediatric Infectious Diseases Society (JPIDS) has established itself as the leading journal in the field of pediatric ID. This achievement would not have been possible without the tireless efforts of our Associate Editor team\, and we again thank them. \nTo manage the continued growth in submissions and further establish a rotation process for Associate Editors\, we are looking for qualified applicants to fill the following roles: \nAssociate Editor – Member at Large (2): Applicants should have significant prior expertise and publications related to many diverse aspects of pediatric infectious diseases in the inpatient and/or outpatient setting.  These AEs will handle papers across a variety of topics\, including papers that do not easily fit into any other topic categories.  Interested applicants are requested to submit required materials by Friday\, September 19. \nContact staff for more information.
URL:https://pids.org/calendar/jpids-associate-editor-application-deadline/
END:VEVENT
BEGIN:VEVENT
DTSTART;TZID=America/New_York:20250917T025900
DTEND;TZID=America/New_York:20250917T025900
DTSTAMP:20260422T143058
CREATED:20250915T183423Z
LAST-MODIFIED:20250915T183423Z
UID:14539-1758077940-1758077940@pids.org
SUMMARY:Vaccine Advocacy Fellowship Deadline
DESCRIPTION:Vaccine Advocacy Fellowship Program
URL:https://pids.org/calendar/vaccine-advocacy-fellowship-deadline/
END:VEVENT
BEGIN:VEVENT
DTSTART;TZID=America/New_York:20250916T130000
DTEND;TZID=America/New_York:20250916T140000
DTSTAMP:20260422T143058
CREATED:20250815T173753Z
LAST-MODIFIED:20250815T173753Z
UID:12792-1758027600-1758031200@pids.org
SUMMARY:Curbside Consultant on Call
DESCRIPTION:Topic: What Has Your Spleen Done for You Lately? \nPresenters: Gabi Espinoza-Candelaria\, MD\, Children’s Hospital of Pittsburgh and Katie Weakley\, MD\, Norton Children’s Hospital \nRegistration: https://societycentral.zoom.us/meeting/register/tJIoduqsrj4qGdaRkYwSSTwF-yzSFEQEZa02#/registration
URL:https://pids.org/calendar/curbside-consultant-on-call-2/
END:VEVENT
BEGIN:VEVENT
DTSTART;TZID=America/New_York:20250916T100000
DTEND;TZID=America/New_York:20250916T110000
DTSTAMP:20260422T143058
CREATED:20250813T180223Z
LAST-MODIFIED:20250813T180223Z
UID:12764-1758016800-1758020400@pids.org
SUMMARY:JPIDS Associate Editors Weekly Call
DESCRIPTION:
URL:https://pids.org/calendar/jpids-associate-editors-weekly-call-136/
END:VEVENT
BEGIN:VEVENT
DTSTART;VALUE=DATE:20250915
DTEND;VALUE=DATE:20250916
DTSTAMP:20260422T143058
CREATED:20250813T203613Z
LAST-MODIFIED:20250813T203613Z
UID:12770-1757894400-1757980799@pids.org
SUMMARY:PIDS Foundation Annual Dinner Ticket Deadline
DESCRIPTION:Ticket pricing: \n\n$75 for trainees\n$125 for individuals\n$1\,500 for a table (table purchase includes 10 tickets + half-page program advertisement) for non-profit/public institutions\n$3\,000 for a table (table purchase includes 10 tickets + half-page program advertisement) for corporate/for-profit organizations\n\nhttps://pediatricinfectiousdiseasessociety.growthzoneapp.com/ap/Events/Register/12Fl4g1FgCVCB
URL:https://pids.org/calendar/pids-foundation-annual-dinner-ticket-deadline/
END:VEVENT
BEGIN:VEVENT
DTSTART;TZID=America/New_York:20250911T200000
DTEND;TZID=America/New_York:20250911T200000
DTSTAMP:20260422T143058
CREATED:20250820T125304Z
LAST-MODIFIED:20250820T125304Z
UID:12830-1757620800-1757620800@pids.org
SUMMARY:Feigin Apprenticeship Application Deadline
DESCRIPTION:Learn more and access the application at https://pidsfoundation.org/awards/apprenticeship-program/
URL:https://pids.org/calendar/feigin-apprenticeship-application-deadline/
END:VEVENT
BEGIN:VEVENT
DTSTART;TZID=America/New_York:20250911T140000
DTEND;TZID=America/New_York:20250911T150000
DTSTAMP:20260422T143058
CREATED:20250907T201900Z
LAST-MODIFIED:20250907T201900Z
UID:14461-1757599200-1757602800@pids.org
SUMMARY:CORE Call
DESCRIPTION:
URL:https://pids.org/calendar/core-call/
END:VEVENT
END:VCALENDAR