BEGIN:VCALENDAR
VERSION:2.0
PRODID:-//Pediatric Infectious Diseases Society - ECPv6.15.17.1//NONSGML v1.0//EN
CALSCALE:GREGORIAN
METHOD:PUBLISH
X-ORIGINAL-URL:https://pids.org
X-WR-CALDESC:Events for Pediatric Infectious Diseases Society
REFRESH-INTERVAL;VALUE=DURATION:PT1H
X-Robots-Tag:noindex
X-PUBLISHED-TTL:PT1H
BEGIN:VTIMEZONE
TZID:America/New_York
BEGIN:DAYLIGHT
TZOFFSETFROM:-0500
TZOFFSETTO:-0400
TZNAME:EDT
DTSTART:20220313T070000
END:DAYLIGHT
BEGIN:STANDARD
TZOFFSETFROM:-0400
TZOFFSETTO:-0500
TZNAME:EST
DTSTART:20221106T060000
END:STANDARD
BEGIN:DAYLIGHT
TZOFFSETFROM:-0500
TZOFFSETTO:-0400
TZNAME:EDT
DTSTART:20230312T070000
END:DAYLIGHT
BEGIN:STANDARD
TZOFFSETFROM:-0400
TZOFFSETTO:-0500
TZNAME:EST
DTSTART:20231105T060000
END:STANDARD
BEGIN:DAYLIGHT
TZOFFSETFROM:-0500
TZOFFSETTO:-0400
TZNAME:EDT
DTSTART:20240310T070000
END:DAYLIGHT
BEGIN:STANDARD
TZOFFSETFROM:-0400
TZOFFSETTO:-0500
TZNAME:EST
DTSTART:20241103T060000
END:STANDARD
END:VTIMEZONE
BEGIN:VEVENT
DTSTART;TZID=America/New_York:20231006T140000
DTEND;TZID=America/New_York:20231006T144500
DTSTAMP:20260422T094216
CREATED:20230127T154744Z
LAST-MODIFIED:20230127T154744Z
UID:2957-1696600800-1696603500@pids.org
SUMMARY:Transplant ID Research Subcommittee Meeting
DESCRIPTION:
URL:https://pids.org/calendar/transplant-id-research-subcommittee-meeting-7/
END:VEVENT
BEGIN:VEVENT
DTSTART;VALUE=DATE:20231011
DTEND;VALUE=DATE:20231016
DTSTAMP:20260422T094216
CREATED:20230118T183111Z
LAST-MODIFIED:20230118T183111Z
UID:2897-1696982400-1697414399@pids.org
SUMMARY:IDWeek 2023
DESCRIPTION:
URL:https://pids.org/calendar/idweek-2023/
END:VEVENT
BEGIN:VEVENT
DTSTART;TZID=America/New_York:20231012T183000
DTEND;TZID=America/New_York:20231012T220000
DTSTAMP:20260422T094216
CREATED:20230712T200635Z
LAST-MODIFIED:20230712T200736Z
UID:4524-1697135400-1697148000@pids.org
SUMMARY:Boston ID Party - PIDS Foundation Annual Dinner
DESCRIPTION:Tickets are now available for the 2023 PIDS Foundation Annual Dinner. Each ticket includes your choice of chicken\, fish\, or vegetarian entree. \n\nGeneral Admission – $100\nTrainee/Student Admission – $50\nTable (10 tickets) – $1\,250
URL:https://pids.org/calendar/boston-id-party-pids-foundation-annual-dinner/
LOCATION:Westin Seaport\, 425 Summer Street\, Boston\, MA\, 02210\, United States
END:VEVENT
BEGIN:VEVENT
DTSTART;TZID=America/New_York:20231016T070000
DTEND;TZID=America/New_York:20231016T080000
DTSTAMP:20260422T094216
CREATED:20231009T153823Z
LAST-MODIFIED:20231009T153823Z
UID:5346-1697439600-1697443200@pids.org
SUMMARY:WSPID Antimicrobial StewardSHIP
DESCRIPTION:Antimicrobial StewardSHIP: Setting Sail on Best Practices to Optimize Treatments \nProgram \n\nWelcome & introductions\nHow can we do better outside of the hospitals? Pearls for outpatient antimicrobial stewardship – Dr. Rana El Feghal\nAntibiotic stewardship in the acute care setting for common infections – Dr. Daniele Dona\nReflections from the moderators – Dr. Danilo Buonsenso and Dr. Anna Markowich\nQ&A – All speakers & Moderators\n\nLearning Objectives \n\nIdentify healthcare burden caused by AMR in pediatric populations and its role in future pandemics.\nExplain how new guidelines on antimicrobial stewardship will help in future pandemics.\nDiscuss how rapid diagnostics impact treatment decisions and antimicrobial stewardship.\nIdentify AMS practices available for low resource settings\n\nhttps://wspid.org/antimicrobial-stewardship-setting-sail-on-best-practices-to-optimize-treatments/
URL:https://pids.org/calendar/wspid-antimicrobial-stewardship/
END:VEVENT
BEGIN:VEVENT
DTSTART;TZID=America/New_York:20231017T100000
DTEND;TZID=America/New_York:20231017T110000
DTSTAMP:20260422T094216
CREATED:20230118T182347Z
LAST-MODIFIED:20230118T182440Z
UID:2887-1697536800-1697540400@pids.org
SUMMARY:JPIDS Associate Editors Weekly Call
DESCRIPTION:
URL:https://pids.org/calendar/jpids-associate-editors-weekly-call-39/
END:VEVENT
BEGIN:VEVENT
DTSTART;TZID=America/New_York:20231024T100000
DTEND;TZID=America/New_York:20231024T110000
DTSTAMP:20260422T094216
CREATED:20230118T182508Z
LAST-MODIFIED:20230118T182508Z
UID:2888-1698141600-1698145200@pids.org
SUMMARY:JPIDS Associate Editors Weekly Call
DESCRIPTION:
URL:https://pids.org/calendar/jpids-associate-editors-weekly-call-40/
END:VEVENT
BEGIN:VEVENT
DTSTART;TZID=America/New_York:20231024T130000
DTEND;TZID=America/New_York:20231024T140000
DTSTAMP:20260422T094216
CREATED:20230118T201008Z
LAST-MODIFIED:20231006T194149Z
UID:2909-1698152400-1698156000@pids.org
SUMMARY:TID Virtual Clinical Case Conference
DESCRIPTION:https://societycentral.zoom.us/meeting/register/tJcqc-iprzMqGtwkNvmNjW_hk4ybyEupMMnZ#/registration
URL:https://pids.org/calendar/tid-virtual-clinical-case-conference-11/
END:VEVENT
BEGIN:VEVENT
DTSTART;TZID=America/New_York:20231026T130000
DTEND;TZID=America/New_York:20231026T140000
DTSTAMP:20260422T094216
CREATED:20231023T140524Z
LAST-MODIFIED:20231023T140524Z
UID:5477-1698325200-1698328800@pids.org
SUMMARY:PIDS-SHARPS October 2023
DESCRIPTION:https://societycentral.zoom.us/j/99804357118
URL:https://pids.org/calendar/pids-sharps-october-2023/
END:VEVENT
BEGIN:VEVENT
DTSTART;TZID=America/New_York:20231031T100000
DTEND;TZID=America/New_York:20231031T110000
DTSTAMP:20260422T094216
CREATED:20230118T182542Z
LAST-MODIFIED:20230118T182542Z
UID:2889-1698746400-1698750000@pids.org
SUMMARY:JPIDS Associate Editors Weekly Call
DESCRIPTION:
URL:https://pids.org/calendar/jpids-associate-editors-weekly-call-41/
END:VEVENT
BEGIN:VEVENT
DTSTART;TZID=America/New_York:20231031T130000
DTEND;TZID=America/New_York:20231031T133000
DTSTAMP:20260422T094216
CREATED:20231025T174510Z
LAST-MODIFIED:20231025T174510Z
UID:5510-1698757200-1698759000@pids.org
SUMMARY:Transplant Journal Club Masterclass 2
DESCRIPTION:https://societycentral.zoom.us/meeting/register/tJwvce-trTouHNU4NNcmM_z00zd37JNcYQE7 \nSpeaker: Sara Winn Dong\, MD
URL:https://pids.org/calendar/transplant-journal-club-masterclass-2/
END:VEVENT
BEGIN:VEVENT
DTSTART;TZID=America/New_York:20231103T130000
DTEND;TZID=America/New_York:20231103T134500
DTSTAMP:20260422T094216
CREATED:20230127T154106Z
LAST-MODIFIED:20230127T154106Z
UID:2949-1699016400-1699019100@pids.org
SUMMARY:International Affairs Committee Meeting
DESCRIPTION:
URL:https://pids.org/calendar/international-affairs-committee-meeting-8/
END:VEVENT
BEGIN:VEVENT
DTSTART;TZID=America/New_York:20231103T140000
DTEND;TZID=America/New_York:20231103T144500
DTSTAMP:20260422T094216
CREATED:20230127T154817Z
LAST-MODIFIED:20230127T154817Z
UID:2958-1699020000-1699022700@pids.org
SUMMARY:Transplant ID Research Subcommittee Meeting
DESCRIPTION:
URL:https://pids.org/calendar/transplant-id-research-subcommittee-meeting-8/
END:VEVENT
BEGIN:VEVENT
DTSTART;TZID=America/New_York:20231107T100000
DTEND;TZID=America/New_York:20231107T110000
DTSTAMP:20260422T094216
CREATED:20230118T182612Z
LAST-MODIFIED:20230118T182612Z
UID:2890-1699351200-1699354800@pids.org
SUMMARY:JPIDS Associate Editors Weekly Call
DESCRIPTION:
URL:https://pids.org/calendar/jpids-associate-editors-weekly-call-42/
END:VEVENT
BEGIN:VEVENT
DTSTART;TZID=America/New_York:20231107T130000
DTEND;TZID=America/New_York:20231107T140000
DTSTAMP:20260422T094216
CREATED:20231030T185959Z
LAST-MODIFIED:20231030T185959Z
UID:5569-1699362000-1699365600@pids.org
SUMMARY:IDA&E Grand Rounds - Physicians with Disabilities
DESCRIPTION:https://societycentral.zoom.us/meeting/register/tJAvdOmgpjsiGtH8e9YKzNmKJC6glHPEwuDM
URL:https://pids.org/calendar/idae-grand-rounds-physicians-with-disabilities/
END:VEVENT
BEGIN:VEVENT
DTSTART;TZID=America/New_York:20231107T150000
DTEND;TZID=America/New_York:20231107T154500
DTSTAMP:20260422T094216
CREATED:20230126T202237Z
LAST-MODIFIED:20230126T202237Z
UID:2939-1699369200-1699371900@pids.org
SUMMARY:Training Programs Committee Meeting
DESCRIPTION:
URL:https://pids.org/calendar/training-programs-committee-meeting-10/
END:VEVENT
BEGIN:VEVENT
DTSTART;TZID=America/New_York:20231109T130000
DTEND;TZID=America/New_York:20231109T140000
DTSTAMP:20260422T094216
CREATED:20231102T151730Z
LAST-MODIFIED:20231102T151730Z
UID:5591-1699534800-1699538400@pids.org
SUMMARY:PIDS-SHARPS November 2023
DESCRIPTION:Outpatient UTI Stewardship in Academics & Beyond \nPresented by Joshua Watson\, MD \nhttps://societycentral.zoom.us/j/99804357118
URL:https://pids.org/calendar/pids-sharps-november-2023/
END:VEVENT
BEGIN:VEVENT
DTSTART;VALUE=DATE:20231114
DTEND;VALUE=DATE:20231118
DTSTAMP:20260422T094216
CREATED:20230531T200840Z
LAST-MODIFIED:20230531T200840Z
UID:4158-1699920000-1700265599@pids.org
SUMMARY:WSPID 2023
DESCRIPTION:
URL:https://pids.org/calendar/wspid-2023/
LOCATION:Durban\, South Africa\, South Africa
END:VEVENT
BEGIN:VEVENT
DTSTART;TZID=America/New_York:20231114T100000
DTEND;TZID=America/New_York:20231114T110000
DTSTAMP:20260422T094216
CREATED:20230118T182641Z
LAST-MODIFIED:20230118T182641Z
UID:2891-1699956000-1699959600@pids.org
SUMMARY:JPIDS Associate Editors Weekly Call
DESCRIPTION:
URL:https://pids.org/calendar/jpids-associate-editors-weekly-call-43/
END:VEVENT
BEGIN:VEVENT
DTSTART;TZID=America/New_York:20231114T130000
DTEND;TZID=America/New_York:20231114T140000
DTSTAMP:20260422T094216
CREATED:20230118T201037Z
LAST-MODIFIED:20231023T191254Z
UID:2910-1699966800-1699970400@pids.org
SUMMARY:TID Virtual Clinical Case Conference
DESCRIPTION:https://societycentral.zoom.us/meeting/register/tJElde6rqDwuH9NFvYPGKg4EuCKS82PgGixd
URL:https://pids.org/calendar/tid-virtual-clinical-case-conference-12/
END:VEVENT
BEGIN:VEVENT
DTSTART;TZID=America/New_York:20231116T130000
DTEND;TZID=America/New_York:20231116T140000
DTSTAMP:20260422T094216
CREATED:20231106T155219Z
LAST-MODIFIED:20231106T155219Z
UID:5628-1700139600-1700143200@pids.org
SUMMARY:STI Series - Sex Positive Sexual Health
DESCRIPTION:Sex Positive Sexual Health \nCME/CNE available \nhttps://courses.nnptc.org/class_information.html?id=3807
URL:https://pids.org/calendar/sti-series-sex-positive-sexual-health/
END:VEVENT
BEGIN:VEVENT
DTSTART;TZID=America/New_York:20231118T170000
DTEND;TZID=America/New_York:20231118T220000
DTSTAMP:20260422T094216
CREATED:20231108T215033Z
LAST-MODIFIED:20231108T215033Z
UID:5662-1700326800-1700344800@pids.org
SUMMARY:15th Aloha Pediatric Infectious Disease Conference
DESCRIPTION:15th Aloha Pediatric Infectious Disease Conference offers in-person and virtual attendance for the Honolulu\, HI event. \nKeynote: Asuncion Mejias\, MD\, PhD\, MPH\, FPIDS will present ‘RSV Vaccines and Preventative Strategies: The Present and the Future’ \n15th Aloha Pediatric Infectious Disease Conference
URL:https://pids.org/calendar/15th-aloha-pediatric-infectious-disease-conference/
END:VEVENT
BEGIN:VEVENT
DTSTART;TZID=America/New_York:20231120T090000
DTEND;TZID=America/New_York:20231120T100000
DTSTAMP:20260422T094216
CREATED:20231101T210730Z
LAST-MODIFIED:20231101T210931Z
UID:5587-1700470800-1700474400@pids.org
SUMMARY:WAAW - All Over the Map: Global AMR Surveillance and Pediatric Considerations
DESCRIPTION:https://societycentral.zoom.us/meeting/register/tJ0vc-ysrDgrEtOvkq47igCEgiiXaQYfGRE0
URL:https://pids.org/calendar/waaw-all-over-the-map-global-amr-surveillance-and-pediatric-considerations/
END:VEVENT
BEGIN:VEVENT
DTSTART;TZID=America/New_York:20231121T100000
DTEND;TZID=America/New_York:20231121T110000
DTSTAMP:20260422T094216
CREATED:20230118T182711Z
LAST-MODIFIED:20230118T182711Z
UID:2892-1700560800-1700564400@pids.org
SUMMARY:JPIDS Associate Editors Weekly Call
DESCRIPTION:
URL:https://pids.org/calendar/jpids-associate-editors-weekly-call-44/
END:VEVENT
BEGIN:VEVENT
DTSTART;TZID=America/New_York:20231128T100000
DTEND;TZID=America/New_York:20231128T110000
DTSTAMP:20260422T094216
CREATED:20230118T182742Z
LAST-MODIFIED:20230118T182742Z
UID:2893-1701165600-1701169200@pids.org
SUMMARY:JPIDS Associate Editors Weekly Call
DESCRIPTION:
URL:https://pids.org/calendar/jpids-associate-editors-weekly-call-45/
END:VEVENT
BEGIN:VEVENT
DTSTART;TZID=America/New_York:20231128T130000
DTEND;TZID=America/New_York:20231128T140000
DTSTAMP:20260422T094216
CREATED:20231120T190140Z
LAST-MODIFIED:20231120T190140Z
UID:5744-1701176400-1701180000@pids.org
SUMMARY:Transplant Journal Club Masterclass 3
DESCRIPTION:https://societycentral.zoom.us/meeting/register/tJ0sd-mtqTgpGtcciIloUR9ZTH8DFR5zW0C0#/registration \nPresenters from the Journal of the Pediatric Infectious Diseases Society: Dr. Yun Li (statistical editor) and Dr. Jeffrey Gerber (associate editor)
URL:https://pids.org/calendar/transplant-journal-club-masterclass-3/
END:VEVENT
BEGIN:VEVENT
DTSTART;TZID=America/New_York:20231130T120000
DTEND;TZID=America/New_York:20231130T130000
DTSTAMP:20260422T094216
CREATED:20231120T211441Z
LAST-MODIFIED:20231120T211632Z
UID:5747-1701345600-1701349200@pids.org
SUMMARY:Timely Topics in Transplant ID Curbside Consultant November
DESCRIPTION:https://societycentral.zoom.us/meeting/register/tJEpf-iurT0jHN0NMdWkzeB6IiDwzsM0P5G0
URL:https://pids.org/calendar/timely-topics-curbside-consultant-november/
END:VEVENT
BEGIN:VEVENT
DTSTART;TZID=America/New_York:20231201T130000
DTEND;TZID=America/New_York:20231201T134500
DTSTAMP:20260422T094216
CREATED:20230127T154145Z
LAST-MODIFIED:20230127T154145Z
UID:2950-1701435600-1701438300@pids.org
SUMMARY:International Affairs Committee Meeting
DESCRIPTION:
URL:https://pids.org/calendar/international-affairs-committee-meeting-9/
END:VEVENT
BEGIN:VEVENT
DTSTART;TZID=America/New_York:20231201T140000
DTEND;TZID=America/New_York:20231201T144500
DTSTAMP:20260422T094216
CREATED:20230127T154851Z
LAST-MODIFIED:20230127T154851Z
UID:2959-1701439200-1701441900@pids.org
SUMMARY:Transplant ID Research Subcommittee Meeting
DESCRIPTION:
URL:https://pids.org/calendar/transplant-id-research-subcommittee-meeting-9/
END:VEVENT
BEGIN:VEVENT
DTSTART;TZID=America/New_York:20231205T100000
DTEND;TZID=America/New_York:20231205T110000
DTSTAMP:20260422T094216
CREATED:20230118T182811Z
LAST-MODIFIED:20230118T182811Z
UID:2894-1701770400-1701774000@pids.org
SUMMARY:JPIDS Associate Editors Weekly Call
DESCRIPTION:
URL:https://pids.org/calendar/jpids-associate-editors-weekly-call-46/
END:VEVENT
BEGIN:VEVENT
DTSTART;TZID=America/New_York:20231205T120000
DTEND;TZID=America/New_York:20231205T130000
DTSTAMP:20260422T094216
CREATED:20231204T191735Z
LAST-MODIFIED:20231204T191735Z
UID:5879-1701777600-1701781200@pids.org
SUMMARY:Timely Topics in Transplant ID Curbside Consultant December
DESCRIPTION:https://societycentral.zoom.us/meeting/register/tJErdOChrTIqHdcJDE47DDLmh5ZKOXnjkYE4
URL:https://pids.org/calendar/timely-topics-in-transplant-id-curbside-consultant-december/
END:VEVENT
END:VCALENDAR