BEGIN:VCALENDAR
VERSION:2.0
PRODID:-//Pediatric Infectious Diseases Society - ECPv6.15.17.1//NONSGML v1.0//EN
CALSCALE:GREGORIAN
METHOD:PUBLISH
X-ORIGINAL-URL:https://pids.org
X-WR-CALDESC:Events for Pediatric Infectious Diseases Society
REFRESH-INTERVAL;VALUE=DURATION:PT1H
X-Robots-Tag:noindex
X-PUBLISHED-TTL:PT1H
BEGIN:VTIMEZONE
TZID:America/New_York
BEGIN:DAYLIGHT
TZOFFSETFROM:-0500
TZOFFSETTO:-0400
TZNAME:EDT
DTSTART:20250309T070000
END:DAYLIGHT
BEGIN:STANDARD
TZOFFSETFROM:-0400
TZOFFSETTO:-0500
TZNAME:EST
DTSTART:20251102T060000
END:STANDARD
BEGIN:DAYLIGHT
TZOFFSETFROM:-0500
TZOFFSETTO:-0400
TZNAME:EDT
DTSTART:20260308T070000
END:DAYLIGHT
BEGIN:STANDARD
TZOFFSETFROM:-0400
TZOFFSETTO:-0500
TZNAME:EST
DTSTART:20261101T060000
END:STANDARD
BEGIN:DAYLIGHT
TZOFFSETFROM:-0500
TZOFFSETTO:-0400
TZNAME:EDT
DTSTART:20270314T070000
END:DAYLIGHT
BEGIN:STANDARD
TZOFFSETFROM:-0400
TZOFFSETTO:-0500
TZNAME:EST
DTSTART:20271107T060000
END:STANDARD
END:VTIMEZONE
BEGIN:VEVENT
DTSTART;TZID=America/New_York:20260421T100000
DTEND;TZID=America/New_York:20260421T130000
DTSTAMP:20260420T114648
CREATED:20260317T134638Z
LAST-MODIFIED:20260317T134638Z
UID:18729-1776765600-1776776400@pids.org
SUMMARY:JPIDS Associate Editors Weekly Call
DESCRIPTION:
URL:https://pids.org/calendar/jpids-associate-editors-weekly-call-166/
END:VEVENT
BEGIN:VEVENT
DTSTART;TZID=America/New_York:20260421T130000
DTEND;TZID=America/New_York:20260421T140000
DTSTAMP:20260420T114648
CREATED:20260326T192542Z
LAST-MODIFIED:20260327T124837Z
UID:19654-1776776400-1776780000@pids.org
SUMMARY:Curbside Consultant on Call
DESCRIPTION:What Has Your Spleen Done For You Lately? \nPresenters: Gabriela Espinoza-Candelaria\, MD (Children’s Wisconsin) and Katie Weakley\, MD (Norton Children’s Hospital)
URL:https://pids.org/calendar/curbside-consultant-on-call-4/
END:VEVENT
END:VCALENDAR