BEGIN:VCALENDAR
VERSION:2.0
PRODID:-//Pediatric Infectious Diseases Society - ECPv6.15.17.1//NONSGML v1.0//EN
CALSCALE:GREGORIAN
METHOD:PUBLISH
X-ORIGINAL-URL:https://pids.org
X-WR-CALDESC:Events for Pediatric Infectious Diseases Society
REFRESH-INTERVAL;VALUE=DURATION:PT1H
X-Robots-Tag:noindex
X-PUBLISHED-TTL:PT1H
BEGIN:VTIMEZONE
TZID:America/New_York
BEGIN:DAYLIGHT
TZOFFSETFROM:-0500
TZOFFSETTO:-0400
TZNAME:EDT
DTSTART:20230312T070000
END:DAYLIGHT
BEGIN:STANDARD
TZOFFSETFROM:-0400
TZOFFSETTO:-0500
TZNAME:EST
DTSTART:20231105T060000
END:STANDARD
BEGIN:DAYLIGHT
TZOFFSETFROM:-0500
TZOFFSETTO:-0400
TZNAME:EDT
DTSTART:20240310T070000
END:DAYLIGHT
BEGIN:STANDARD
TZOFFSETFROM:-0400
TZOFFSETTO:-0500
TZNAME:EST
DTSTART:20241103T060000
END:STANDARD
BEGIN:DAYLIGHT
TZOFFSETFROM:-0500
TZOFFSETTO:-0400
TZNAME:EDT
DTSTART:20250309T070000
END:DAYLIGHT
BEGIN:STANDARD
TZOFFSETFROM:-0400
TZOFFSETTO:-0500
TZNAME:EST
DTSTART:20251102T060000
END:STANDARD
END:VTIMEZONE
BEGIN:VEVENT
DTSTART;TZID=America/New_York:20240123T100000
DTEND;TZID=America/New_York:20240123T110000
DTSTAMP:20260422T061841
CREATED:20240102T203827Z
LAST-MODIFIED:20240102T203827Z
UID:6154-1706004000-1706007600@pids.org
SUMMARY:JPIDS Associate Editors Weekly Call
DESCRIPTION:
URL:https://pids.org/calendar/jpids-associate-editors-weekly-call-52/
END:VEVENT
BEGIN:VEVENT
DTSTART;TZID=America/New_York:20240123T130000
DTEND;TZID=America/New_York:20240123T140000
DTSTAMP:20260422T061841
CREATED:20231218T182847Z
LAST-MODIFIED:20231218T182847Z
UID:6031-1706014800-1706018400@pids.org
SUMMARY:TID Virtual Clinical Case Conference
DESCRIPTION:https://societycentral.zoom.us/meeting/register/tJ0vde2oqjgvHNbBNt8yYRyaIZdFMR4nEMrj
URL:https://pids.org/calendar/tid-virtual-clinical-case-conference-10/
END:VEVENT
END:VCALENDAR